BEGIN:VCALENDAR
PRODID:-//github.com/rianjs/ical.net//NONSGML ical.net 4.0//EN
VERSION:2.0
BEGIN:VTIMEZONE
TZID:Mountain Standard Time
X-LIC-LOCATION:America/Denver
BEGIN:STANDARD
DTSTART:20241103T020000
RRULE:FREQ=YEARLY;BYDAY=1SU;BYMONTH=11
TZNAME:MST
TZOFFSETFROM:-0600
TZOFFSETTO:-0700
END:STANDARD
BEGIN:DAYLIGHT
DTSTART:20250309T020000
RRULE:FREQ=YEARLY;BYDAY=2SU;BYMONTH=3
TZNAME:MDT
TZOFFSETFROM:-0700
TZOFFSETTO:-0600
END:DAYLIGHT
END:VTIMEZONE
BEGIN:VEVENT
DESCRIPTION:2024 Annual Meeting by the American Academy of Neurology\n\nTi
 tle: Autonomic Disorders\n\nAccess URL: https://www.aan.com/msa/Public/Ev
 ents/GetEventURL/17224\n\nLearn More About This Event: https://www.aan.co
 m/msa/Public/Events/Details/17224
DTEND;TZID=Mountain Standard Time:20240415T121500
DTSTAMP:20260423T165028Z
DTSTART;TZID=Mountain Standard Time:20240415T111500
LOCATION:https://www.aan.com/msa/Public/Events/GetEventURL/17224
SEQUENCE:0
SUMMARY:AAN: Autonomic Disorders
UID:8bec511b-e4a0-47c7-8e94-9464334e324b
END:VEVENT
END:VCALENDAR
