BEGIN:VCALENDAR
PRODID:-//github.com/rianjs/ical.net//NONSGML ical.net 4.0//EN
VERSION:2.0
BEGIN:VTIMEZONE
TZID:Mountain Standard Time
X-LIC-LOCATION:America/Denver
BEGIN:STANDARD
DTSTART:20241103T020000
RRULE:FREQ=YEARLY;BYDAY=1SU;BYMONTH=11
TZNAME:MST
TZOFFSETFROM:-0600
TZOFFSETTO:-0700
END:STANDARD
BEGIN:DAYLIGHT
DTSTART:20250309T020000
RRULE:FREQ=YEARLY;BYDAY=2SU;BYMONTH=3
TZNAME:MDT
TZOFFSETFROM:-0700
TZOFFSETTO:-0600
END:DAYLIGHT
END:VTIMEZONE
BEGIN:VEVENT
DESCRIPTION:2024 Annual Meeting by the American Academy of Neurology\n\nTi
 tle: Neurology Education: Roundtable Lunch: What is the Best (and Worst) 
 Narrative Comment You Have Written or Received?\n\nAccess URL: https://ww
 w.aan.com/msa/Public/Events/GetEventURL/17227\n\nLearn More About This Ev
 ent: https://www.aan.com/msa/Public/Events/Details/17227
DTEND;TZID=Mountain Standard Time:20240413T124500
DTSTAMP:20260423T164928Z
DTSTART;TZID=Mountain Standard Time:20240413T120000
LOCATION:https://www.aan.com/msa/Public/Events/GetEventURL/17227
SEQUENCE:0
SUMMARY:AAN: Neurology Education: Roundtable Lunch: What is the Best (and 
 Worst) Narrative Comment You Have Written or Received?
UID:3e5b0f8d-1ac5-4490-a053-89e6169572c7
END:VEVENT
END:VCALENDAR
