BEGIN:VCALENDAR
PRODID:-//github.com/rianjs/ical.net//NONSGML ical.net 4.0//EN
VERSION:2.0
BEGIN:VTIMEZONE
TZID:Mountain Standard Time
X-LIC-LOCATION:America/Denver
BEGIN:STANDARD
DTSTART:20241103T020000
RRULE:FREQ=YEARLY;BYDAY=1SU;BYMONTH=11
TZNAME:MST
TZOFFSETFROM:-0600
TZOFFSETTO:-0700
END:STANDARD
BEGIN:DAYLIGHT
DTSTART:20250309T020000
RRULE:FREQ=YEARLY;BYDAY=2SU;BYMONTH=3
TZNAME:MDT
TZOFFSETFROM:-0700
TZOFFSETTO:-0600
END:DAYLIGHT
END:VTIMEZONE
BEGIN:VEVENT
DESCRIPTION:2024 Annual Meeting by the American Academy of Neurology\n\nTi
 tle: Neurology Education: Research Blitz\n\nAccess URL: https://www.aan.c
 om/msa/Public/Events/GetEventURL/17234\n\nLearn More About This Event: ht
 tps://www.aan.com/msa/Public/Events/Details/17234
DTEND;TZID=Mountain Standard Time:20240413T163000
DTSTAMP:20260423T165034Z
DTSTART;TZID=Mountain Standard Time:20240413T150000
LOCATION:https://www.aan.com/msa/Public/Events/GetEventURL/17234
SEQUENCE:0
SUMMARY:AAN: Neurology Education: Research Blitz
UID:22782024-452f-4596-8f6e-434cae9883ff
END:VEVENT
END:VCALENDAR
