BEGIN:VCALENDAR
PRODID:-//github.com/rianjs/ical.net//NONSGML ical.net 4.0//EN
VERSION:2.0
BEGIN:VTIMEZONE
TZID:Mountain Standard Time
X-LIC-LOCATION:America/Denver
BEGIN:STANDARD
DTSTART:20241103T020000
RRULE:FREQ=YEARLY;BYDAY=1SU;BYMONTH=11
TZNAME:MST
TZOFFSETFROM:-0600
TZOFFSETTO:-0700
END:STANDARD
BEGIN:DAYLIGHT
DTSTART:20250309T020000
RRULE:FREQ=YEARLY;BYDAY=2SU;BYMONTH=3
TZNAME:MDT
TZOFFSETFROM:-0700
TZOFFSETTO:-0600
END:DAYLIGHT
END:VTIMEZONE
BEGIN:VEVENT
DESCRIPTION:2024 Annual Meeting by the American Academy of Neurology\n\nTi
 tle: Neurology Education: Clerkship and Program Directors Skills Building
  Work Group\n\nAccess URL: https://www.aan.com/msa/Public/Events/GetEvent
 URL/17244\n\nLearn More About This Event: https://www.aan.com/msa/Public/
 Events/Details/17244
DTEND;TZID=Mountain Standard Time:20240414T160000
DTSTAMP:20260423T165314Z
DTSTART;TZID=Mountain Standard Time:20240414T130000
LOCATION:https://www.aan.com/msa/Public/Events/GetEventURL/17244
SEQUENCE:0
SUMMARY:AAN: Neurology Education: Clerkship and Program Directors Skills B
 uilding Work Group
UID:032aa4c1-95a3-449d-ae03-d7d99e06103a
END:VEVENT
END:VCALENDAR
