BEGIN:VCALENDAR
PRODID:-//github.com/rianjs/ical.net//NONSGML ical.net 4.0//EN
VERSION:2.0
BEGIN:VTIMEZONE
TZID:Mountain Standard Time
X-LIC-LOCATION:America/Denver
BEGIN:STANDARD
DTSTART:20241103T020000
RRULE:FREQ=YEARLY;BYDAY=1SU;BYMONTH=11
TZNAME:MST
TZOFFSETFROM:-0600
TZOFFSETTO:-0700
END:STANDARD
BEGIN:DAYLIGHT
DTSTART:20250309T020000
RRULE:FREQ=YEARLY;BYDAY=2SU;BYMONTH=3
TZNAME:MDT
TZOFFSETFROM:-0700
TZOFFSETTO:-0600
END:DAYLIGHT
END:VTIMEZONE
BEGIN:VEVENT
DESCRIPTION:2024 Annual Meeting by the American Academy of Neurology\n\nTi
 tle: Inherited Myopathies and Neuropathies: New Therapeutic Approaches an
 d Observations\n\nAccess URL: https://www.aan.com/msa/Public/Events/GetEv
 entURL/17245\n\nLearn More About This Event: https://www.aan.com/msa/Publ
 ic/Events/Details/17245
DTEND;TZID=Mountain Standard Time:20240416T150000
DTSTAMP:20260423T165114Z
DTSTART;TZID=Mountain Standard Time:20240416T130000
LOCATION:https://www.aan.com/msa/Public/Events/GetEventURL/17245
SEQUENCE:0
SUMMARY:AAN: Inherited Myopathies and Neuropathies: New Therapeutic Approa
 ches and Observations
UID:3d3dc626-1470-40d1-a62e-865ec390a607
END:VEVENT
END:VCALENDAR
