BEGIN:VCALENDAR
PRODID:-//github.com/rianjs/ical.net//NONSGML ical.net 4.0//EN
VERSION:2.0
BEGIN:VTIMEZONE
TZID:Mountain Standard Time
X-LIC-LOCATION:America/Denver
BEGIN:STANDARD
DTSTART:20241103T020000
RRULE:FREQ=YEARLY;BYDAY=1SU;BYMONTH=11
TZNAME:MST
TZOFFSETFROM:-0600
TZOFFSETTO:-0700
END:STANDARD
BEGIN:DAYLIGHT
DTSTART:20250309T020000
RRULE:FREQ=YEARLY;BYDAY=2SU;BYMONTH=3
TZNAME:MDT
TZOFFSETFROM:-0700
TZOFFSETTO:-0600
END:DAYLIGHT
END:VTIMEZONE
BEGIN:VEVENT
DESCRIPTION:2024 Annual Meeting by the American Academy of Neurology\n\nTi
 tle: Neurology Education: Roundtable Lunch Potpourri: 10 Tables and 10 To
 pics\n\nAccess URL: https://www.aan.com/msa/Public/Events/GetEventURL/172
 54\n\nLearn More About This Event: https://www.aan.com/msa/Public/Events/
 Details/17254
DTEND;TZID=Mountain Standard Time:20240415T124500
DTSTAMP:20260423T165131Z
DTSTART;TZID=Mountain Standard Time:20240415T120000
LOCATION:https://www.aan.com/msa/Public/Events/GetEventURL/17254
SEQUENCE:0
SUMMARY:AAN: Neurology Education: Roundtable Lunch Potpourri: 10 Tables an
 d 10 Topics
UID:bad0b54e-00e4-42bc-bd12-05c538ac301c
END:VEVENT
END:VCALENDAR
