BEGIN:VCALENDAR
PRODID:-//github.com/rianjs/ical.net//NONSGML ical.net 4.0//EN
VERSION:2.0
BEGIN:VTIMEZONE
TZID:Mountain Standard Time
X-LIC-LOCATION:America/Denver
BEGIN:STANDARD
DTSTART:20241103T020000
RRULE:FREQ=YEARLY;BYDAY=1SU;BYMONTH=11
TZNAME:MST
TZOFFSETFROM:-0600
TZOFFSETTO:-0700
END:STANDARD
BEGIN:DAYLIGHT
DTSTART:20250309T020000
RRULE:FREQ=YEARLY;BYDAY=2SU;BYMONTH=3
TZNAME:MDT
TZOFFSETFROM:-0700
TZOFFSETTO:-0600
END:DAYLIGHT
END:VTIMEZONE
BEGIN:VEVENT
DESCRIPTION:2024 Annual Meeting by the American Academy of Neurology\n\nTi
 tle: Neurology Education: Faculty Development: Enhancing Your Role in Stu
 dent and Resident Training\n\nAccess URL: https://www.aan.com/msa/Public/
 Events/GetEventURL/17257\n\nLearn More About This Event: https://www.aan.
 com/msa/Public/Events/Details/17257
DTEND;TZID=Mountain Standard Time:20240416T090000
DTSTAMP:20260423T164842Z
DTSTART;TZID=Mountain Standard Time:20240416T070000
LOCATION:https://www.aan.com/msa/Public/Events/GetEventURL/17257
SEQUENCE:0
SUMMARY:AAN: Neurology Education: Faculty Development: Enhancing Your Role
  in Student and Resident Training
UID:c8ec0cfd-eca6-4a09-90aa-beda6de4524b
END:VEVENT
END:VCALENDAR
