BEGIN:VCALENDAR
PRODID:-//github.com/rianjs/ical.net//NONSGML ical.net 4.0//EN
VERSION:2.0
BEGIN:VTIMEZONE
TZID:Mountain Standard Time
X-LIC-LOCATION:America/Denver
BEGIN:STANDARD
DTSTART:20241103T020000
RRULE:FREQ=YEARLY;BYDAY=1SU;BYMONTH=11
TZNAME:MST
TZOFFSETFROM:-0600
TZOFFSETTO:-0700
END:STANDARD
BEGIN:DAYLIGHT
DTSTART:20250309T020000
RRULE:FREQ=YEARLY;BYDAY=2SU;BYMONTH=3
TZNAME:MDT
TZOFFSETFROM:-0700
TZOFFSETTO:-0600
END:DAYLIGHT
END:VTIMEZONE
BEGIN:VEVENT
DESCRIPTION:2024 Annual Meeting by the American Academy of Neurology\n\nTi
 tle: Autoimmune Neurology: NMOSD/MOGAD\n\nAccess URL: https://www.aan.com
 /msa/Public/Events/GetEventURL/17268\n\nLearn More About This Event: http
 s://www.aan.com/msa/Public/Events/Details/17268
DTEND;TZID=Mountain Standard Time:20240417T150000
DTSTAMP:20260423T164840Z
DTSTART;TZID=Mountain Standard Time:20240417T130000
LOCATION:https://www.aan.com/msa/Public/Events/GetEventURL/17268
SEQUENCE:0
SUMMARY:AAN: Autoimmune Neurology: NMOSD/MOGAD
UID:a8a03a37-7a96-4bf4-b94f-b35337f6b235
END:VEVENT
END:VCALENDAR
