BEGIN:VCALENDAR
PRODID:-//github.com/rianjs/ical.net//NONSGML ical.net 4.0//EN
VERSION:2.0
BEGIN:VTIMEZONE
TZID:Mountain Standard Time
X-LIC-LOCATION:America/Denver
BEGIN:STANDARD
DTSTART:20241103T020000
RRULE:FREQ=YEARLY;BYDAY=1SU;BYMONTH=11
TZNAME:MST
TZOFFSETFROM:-0600
TZOFFSETTO:-0700
END:STANDARD
BEGIN:DAYLIGHT
DTSTART:20250309T020000
RRULE:FREQ=YEARLY;BYDAY=2SU;BYMONTH=3
TZNAME:MDT
TZOFFSETFROM:-0700
TZOFFSETTO:-0600
END:DAYLIGHT
END:VTIMEZONE
BEGIN:VEVENT
DESCRIPTION:2024 Annual Meeting by the American Academy of Neurology\n\nTi
 tle: University of California\, Irvine Alumni Reunion\n\nDescription: Fir
 st reunion event for UC Irvine to meet and network\n\nLearn More About Th
 is Event: https://www.aan.com/msa/Public/Events/Details/17309
DTEND;TZID=Mountain Standard Time:20240416T203000
DTSTAMP:20260423T165028Z
DTSTART;TZID=Mountain Standard Time:20240416T183000
LOCATION:https://www.aan.com/msa/Public/Events/GetEventURL/17309
SEQUENCE:0
SUMMARY:AAN: University of California\, Irvine Alumni Reunion
UID:2ddfb120-d0b3-4899-83a3-1c65d3d8f4cf
END:VEVENT
END:VCALENDAR
