BEGIN:VCALENDAR
PRODID:-//github.com/rianjs/ical.net//NONSGML ical.net 4.0//EN
VERSION:2.0
BEGIN:VTIMEZONE
TZID:Mountain Standard Time
X-LIC-LOCATION:America/Denver
BEGIN:STANDARD
DTSTART:20241103T020000
RRULE:FREQ=YEARLY;BYDAY=1SU;BYMONTH=11
TZNAME:MST
TZOFFSETFROM:-0600
TZOFFSETTO:-0700
END:STANDARD
BEGIN:DAYLIGHT
DTSTART:20250309T020000
RRULE:FREQ=YEARLY;BYDAY=2SU;BYMONTH=3
TZNAME:MDT
TZOFFSETFROM:-0700
TZOFFSETTO:-0600
END:DAYLIGHT
END:VTIMEZONE
BEGIN:VEVENT
DESCRIPTION:2024 Annual Meeting by the American Academy of Neurology\n\nTi
 tle: Changing the Mindset of Diversity\, Equity\, and Inclusion (DEI) in 
 Academic Neurology (Academic Hub)\n\nAccess URL: https://www.aan.com/msa/
 Public/Events/GetEventURL/17323\n\nLearn More About This Event: https://w
 ww.aan.com/msa/Public/Events/Details/17323
DTEND;TZID=Mountain Standard Time:20240417T131500
DTSTAMP:20260423T165314Z
DTSTART;TZID=Mountain Standard Time:20240417T123000
LOCATION:https://www.aan.com/msa/Public/Events/GetEventURL/17323
SEQUENCE:0
SUMMARY:AAN: Changing the Mindset of Diversity\, Equity\, and Inclusion (D
 EI) in Academic Neurology (Academic Hub)
UID:52640d13-e46c-421e-a65d-1923a2727ca7
END:VEVENT
END:VCALENDAR
