BEGIN:VCALENDAR
PRODID:-//github.com/rianjs/ical.net//NONSGML ical.net 4.0//EN
VERSION:2.0
BEGIN:VTIMEZONE
TZID:Mountain Standard Time
X-LIC-LOCATION:America/Denver
BEGIN:STANDARD
DTSTART:20241103T020000
RRULE:FREQ=YEARLY;BYDAY=1SU;BYMONTH=11
TZNAME:MST
TZOFFSETFROM:-0600
TZOFFSETTO:-0700
END:STANDARD
BEGIN:DAYLIGHT
DTSTART:20250309T020000
RRULE:FREQ=YEARLY;BYDAY=2SU;BYMONTH=3
TZNAME:MDT
TZOFFSETFROM:-0700
TZOFFSETTO:-0600
END:DAYLIGHT
END:VTIMEZONE
BEGIN:VEVENT
DESCRIPTION:2024 Annual Meeting by the American Academy of Neurology\n\nTi
 tle: Standardization of Electronic Health Record (EHR) Tools: An EHR Vend
 or and Parkinson Foundation Collaboration (Practice and Policy Hub)\n\nAc
 cess URL: https://www.aan.com/msa/Public/Events/GetEventURL/17386\n\nLear
 n More About This Event: https://www.aan.com/msa/Public/Events/Details/17
 386
DTEND;TZID=Mountain Standard Time:20240417T091500
DTSTAMP:20260423T165232Z
DTSTART;TZID=Mountain Standard Time:20240417T084500
LOCATION:https://www.aan.com/msa/Public/Events/GetEventURL/17386
SEQUENCE:0
SUMMARY:AAN: Standardization of Electronic Health Record (EHR) Tools: An E
 HR Vendor and Parkinson Foundation Collaboration (Practice and Policy Hub
 )
UID:8dbf2e2d-8da3-4072-aa2b-5c9b9a0881ae
END:VEVENT
END:VCALENDAR
