BEGIN:VCALENDAR
PRODID:-//github.com/rianjs/ical.net//NONSGML ical.net 4.0//EN
VERSION:2.0
BEGIN:VTIMEZONE
TZID:Mountain Standard Time
X-LIC-LOCATION:America/Denver
BEGIN:STANDARD
DTSTART:20241103T020000
RRULE:FREQ=YEARLY;BYDAY=1SU;BYMONTH=11
TZNAME:MST
TZOFFSETFROM:-0600
TZOFFSETTO:-0700
END:STANDARD
BEGIN:DAYLIGHT
DTSTART:20250309T020000
RRULE:FREQ=YEARLY;BYDAY=2SU;BYMONTH=3
TZNAME:MDT
TZOFFSETFROM:-0700
TZOFFSETTO:-0600
END:DAYLIGHT
END:VTIMEZONE
BEGIN:VEVENT
DESCRIPTION:2024 Annual Meeting by the American Academy of Neurology\n\nTi
 tle: Unlocking Synchronous & Asynchronous Telehealth (Practice and Policy
  Hub)\n\nAccess URL: https://www.aan.com/msa/Public/Events/GetEventURL/17
 387\n\nLearn More About This Event: https://www.aan.com/msa/Public/Events
 /Details/17387
DTEND;TZID=Mountain Standard Time:20240417T160000
DTSTAMP:20260423T165315Z
DTSTART;TZID=Mountain Standard Time:20240417T150000
LOCATION:https://www.aan.com/msa/Public/Events/GetEventURL/17387
SEQUENCE:0
SUMMARY:AAN: Unlocking Synchronous & Asynchronous Telehealth (Practice and
  Policy Hub)
UID:c9dea16e-7473-42f6-909e-5c5410b40087
END:VEVENT
END:VCALENDAR
