BEGIN:VCALENDAR
PRODID:-//github.com/rianjs/ical.net//NONSGML ical.net 4.0//EN
VERSION:2.0
BEGIN:VTIMEZONE
TZID:Mountain Standard Time
X-LIC-LOCATION:America/Denver
BEGIN:STANDARD
DTSTART:20241103T020000
RRULE:FREQ=YEARLY;BYDAY=1SU;BYMONTH=11
TZNAME:MST
TZOFFSETFROM:-0600
TZOFFSETTO:-0700
END:STANDARD
BEGIN:DAYLIGHT
DTSTART:20250309T020000
RRULE:FREQ=YEARLY;BYDAY=2SU;BYMONTH=3
TZNAME:MDT
TZOFFSETFROM:-0700
TZOFFSETTO:-0600
END:DAYLIGHT
END:VTIMEZONE
BEGIN:VEVENT
DESCRIPTION:2024 Annual Meeting by the American Academy of Neurology\n\nTi
 tle: You Can Charge for That? Getting Paid for Work You’re Already Doing 
 (Practice and Policy Hub)\n\nAccess URL: https://www.aan.com/msa/Public/E
 vents/GetEventURL/17388\n\nLearn More About This Event: https://www.aan.c
 om/msa/Public/Events/Details/17388
DTEND;TZID=Mountain Standard Time:20240414T090000
DTSTAMP:20260423T181421Z
DTSTART;TZID=Mountain Standard Time:20240414T083000
LOCATION:https://www.aan.com/msa/Public/Events/GetEventURL/17388
SEQUENCE:0
SUMMARY:AAN: You Can Charge for That? Getting Paid for Work You’re Already
  Doing (Practice and Policy Hub)
UID:8f723b4d-c8a1-434d-ab90-6937a8cbf8b5
END:VEVENT
END:VCALENDAR
