BEGIN:VCALENDAR
PRODID:-//github.com/rianjs/ical.net//NONSGML ical.net 4.0//EN
VERSION:2.0
BEGIN:VTIMEZONE
TZID:Mountain Standard Time
X-LIC-LOCATION:America/Denver
BEGIN:STANDARD
DTSTART:20241103T020000
RRULE:FREQ=YEARLY;BYDAY=1SU;BYMONTH=11
TZNAME:MST
TZOFFSETFROM:-0600
TZOFFSETTO:-0700
END:STANDARD
BEGIN:DAYLIGHT
DTSTART:20250309T020000
RRULE:FREQ=YEARLY;BYDAY=2SU;BYMONTH=3
TZNAME:MDT
TZOFFSETFROM:-0700
TZOFFSETTO:-0600
END:DAYLIGHT
END:VTIMEZONE
BEGIN:VEVENT
DESCRIPTION:2024 Annual Meeting by the American Academy of Neurology\n\nTi
 tle: Methods for Collaborative Problem-solving (Leadership University)\n\
 nAccess URL: https://www.aan.com/msa/Public/Events/GetEventURL/17412\n\nL
 earn More About This Event: https://www.aan.com/msa/Public/Events/Details
 /17412
DTEND;TZID=Mountain Standard Time:20240413T133000
DTSTAMP:20260423T165028Z
DTSTART;TZID=Mountain Standard Time:20240413T123000
LOCATION:https://www.aan.com/msa/Public/Events/GetEventURL/17412
SEQUENCE:0
SUMMARY:AAN: Methods for Collaborative Problem-solving (Leadership Univers
 ity)
UID:e21b0f9b-9dc6-47b6-bcbc-ecadddf2802b
END:VEVENT
END:VCALENDAR
