BEGIN:VCALENDAR
PRODID:-//github.com/rianjs/ical.net//NONSGML ical.net 4.0//EN
VERSION:2.0
BEGIN:VTIMEZONE
TZID:Mountain Standard Time
X-LIC-LOCATION:America/Denver
BEGIN:STANDARD
DTSTART:20241103T020000
RRULE:FREQ=YEARLY;BYDAY=1SU;BYMONTH=11
TZNAME:MST
TZOFFSETFROM:-0600
TZOFFSETTO:-0700
END:STANDARD
BEGIN:DAYLIGHT
DTSTART:20250309T020000
RRULE:FREQ=YEARLY;BYDAY=2SU;BYMONTH=3
TZNAME:MDT
TZOFFSETFROM:-0700
TZOFFSETTO:-0600
END:DAYLIGHT
END:VTIMEZONE
BEGIN:VEVENT
DESCRIPTION:2024 Annual Meeting by the American Academy of Neurology\n\nTi
 tle: University of Nebraska Medical Center - Department of Neurological S
 ciences Alumni Reunion\n\nDescription: This event is a open house for fac
 ulty and alumni of our department of neurological sciences. \n\nLearn Mor
 e About This Event: https://www.aan.com/msa/Public/Events/Details/17425
DTEND;TZID=Mountain Standard Time:20240416T200000
DTSTAMP:20260423T164839Z
DTSTART;TZID=Mountain Standard Time:20240416T180000
LOCATION:https://www.aan.com/msa/Public/Events/GetEventURL/17425
SEQUENCE:0
SUMMARY:AAN: University of Nebraska Medical Center - Department of Neurolo
 gical Sciences Alumni Reunion
UID:913f6239-7bc9-42d9-a9a9-25dccc069134
END:VEVENT
END:VCALENDAR
