BEGIN:VCALENDAR
PRODID:-//github.com/rianjs/ical.net//NONSGML ical.net 4.0//EN
VERSION:2.0
BEGIN:VTIMEZONE
TZID:Mountain Standard Time
X-LIC-LOCATION:America/Denver
BEGIN:STANDARD
DTSTART:20241103T020000
RRULE:FREQ=YEARLY;BYDAY=1SU;BYMONTH=11
TZNAME:MST
TZOFFSETFROM:-0600
TZOFFSETTO:-0700
END:STANDARD
BEGIN:DAYLIGHT
DTSTART:20250309T020000
RRULE:FREQ=YEARLY;BYDAY=2SU;BYMONTH=3
TZNAME:MDT
TZOFFSETFROM:-0700
TZOFFSETTO:-0600
END:DAYLIGHT
END:VTIMEZONE
BEGIN:VEVENT
DESCRIPTION:2024 Annual Meeting by the American Academy of Neurology\n\nTi
 tle: VCU Department of Neurology Alumni Reception\n\nDescription: This is
  an annual reception for our VCU Department of Neurology alumni\, current
  faculty\, and residents to attend. \n\nLearn More About This Event: http
 s://www.aan.com/msa/Public/Events/Details/17561
DTEND;TZID=Mountain Standard Time:20240416T200000
DTSTAMP:20260423T165233Z
DTSTART;TZID=Mountain Standard Time:20240416T180000
LOCATION:https://www.aan.com/msa/Public/Events/GetEventURL/17561
SEQUENCE:0
SUMMARY:AAN: VCU Department of Neurology Alumni Reception
UID:df0772eb-3d58-4c07-bc93-77b9af9364b9
END:VEVENT
END:VCALENDAR
