BEGIN:VCALENDAR
PRODID:-//github.com/rianjs/ical.net//NONSGML ical.net 4.0//EN
VERSION:2.0
BEGIN:VTIMEZONE
TZID:Mountain Standard Time
X-LIC-LOCATION:America/Denver
BEGIN:STANDARD
DTSTART:20241103T020000
RRULE:FREQ=YEARLY;BYDAY=1SU;BYMONTH=11
TZNAME:MST
TZOFFSETFROM:-0600
TZOFFSETTO:-0700
END:STANDARD
BEGIN:DAYLIGHT
DTSTART:20250309T020000
RRULE:FREQ=YEARLY;BYDAY=2SU;BYMONTH=3
TZNAME:MDT
TZOFFSETFROM:-0700
TZOFFSETTO:-0600
END:DAYLIGHT
END:VTIMEZONE
BEGIN:VEVENT
DESCRIPTION:2024 Annual Meeting by the American Academy of Neurology\n\nTi
 tle: NeuroNEXT 3.0—Network Update and New Initiatives (Research Hub)\n\nA
 ccess URL: https://www.aan.com/msa/Public/Events/GetEventURL/17666\n\nLea
 rn More About This Event: https://www.aan.com/msa/Public/Events/Details/1
 7666
DTEND;TZID=Mountain Standard Time:20240414T143000
DTSTAMP:20260423T165115Z
DTSTART;TZID=Mountain Standard Time:20240414T140000
LOCATION:https://www.aan.com/msa/Public/Events/GetEventURL/17666
SEQUENCE:0
SUMMARY:AAN: NeuroNEXT 3.0—Network Update and New Initiatives (Research Hu
 b)
UID:facfff06-88e0-4800-9e9a-363bc7e25135
END:VEVENT
END:VCALENDAR
