BEGIN:VCALENDAR
PRODID:-//github.com/rianjs/ical.net//NONSGML ical.net 4.0//EN
VERSION:2.0
BEGIN:VTIMEZONE
TZID:Mountain Standard Time
X-LIC-LOCATION:America/Denver
BEGIN:STANDARD
DTSTART:20241103T020000
RRULE:FREQ=YEARLY;BYDAY=1SU;BYMONTH=11
TZNAME:MST
TZOFFSETFROM:-0600
TZOFFSETTO:-0700
END:STANDARD
BEGIN:DAYLIGHT
DTSTART:20250309T020000
RRULE:FREQ=YEARLY;BYDAY=2SU;BYMONTH=3
TZNAME:MDT
TZOFFSETFROM:-0700
TZOFFSETTO:-0600
END:DAYLIGHT
END:VTIMEZONE
BEGIN:VEVENT
DESCRIPTION:2024 Annual Meeting by the American Academy of Neurology\n\nTi
 tle: Emerging Neurologic Care Presentations\n\nAccess URL: https://www.aa
 n.com/msa/Public/Events/GetEventURL/17688\n\nLearn More About This Event:
  https://www.aan.com/msa/Public/Events/Details/17688
DTEND;TZID=Mountain Standard Time:20240415T180000
DTSTAMP:20260423T165156Z
DTSTART;TZID=Mountain Standard Time:20240415T113000
LOCATION:https://www.aan.com/msa/Public/Events/GetEventURL/17688
SEQUENCE:0
SUMMARY:AAN: Emerging Neurologic Care Presentations
UID:9d8a5c36-2a62-452d-82df-9578ddc38008
END:VEVENT
END:VCALENDAR
