BEGIN:VCALENDAR
PRODID:-//github.com/rianjs/ical.net//NONSGML ical.net 4.0//EN
VERSION:2.0
BEGIN:VTIMEZONE
TZID:Eastern Standard Time
X-LIC-LOCATION:America/New_York
BEGIN:STANDARD
DTSTART:20241103T020000
RRULE:FREQ=YEARLY;BYDAY=1SU;BYMONTH=11
TZNAME:EST
TZOFFSETFROM:-0400
TZOFFSETTO:-0500
END:STANDARD
BEGIN:DAYLIGHT
DTSTART:20250309T020000
RRULE:FREQ=YEARLY;BYDAY=2SU;BYMONTH=3
TZNAME:EDT
TZOFFSETFROM:-0500
TZOFFSETTO:-0400
END:DAYLIGHT
END:VTIMEZONE
BEGIN:VEVENT
DESCRIPTION:2023 Annual Meeting by the American Academy of Neurology\n\nTi
 tle: Considerations for Therapy Animals in Your Institution\n\nAccess URL
 : https://www.aan.com/msa/Public/Events/GetEventURL/17718\n\nLearn More A
 bout This Event: https://www.aan.com/msa/Public/Events/Details/17718
DTEND;TZID=Eastern Standard Time:20240414T130000
DTSTAMP:20260424T053353Z
DTSTART;TZID=Eastern Standard Time:20240414T123000
LOCATION:https://www.aan.com/msa/Public/Events/GetEventURL/17718
SEQUENCE:0
SUMMARY:AAN: Considerations for Therapy Animals in Your Institution
UID:1c6205cb-b9ce-4734-8a48-6689ecbb5d9b
END:VEVENT
END:VCALENDAR
