BEGIN:VCALENDAR
PRODID:-//github.com/rianjs/ical.net//NONSGML ical.net 4.0//EN
VERSION:2.0
BEGIN:VTIMEZONE
TZID:Mountain Standard Time
X-LIC-LOCATION:America/Denver
BEGIN:STANDARD
DTSTART:20241103T020000
RRULE:FREQ=YEARLY;BYDAY=1SU;BYMONTH=11
TZNAME:MST
TZOFFSETFROM:-0600
TZOFFSETTO:-0700
END:STANDARD
BEGIN:DAYLIGHT
DTSTART:20250309T020000
RRULE:FREQ=YEARLY;BYDAY=2SU;BYMONTH=3
TZNAME:MDT
TZOFFSETFROM:-0700
TZOFFSETTO:-0600
END:DAYLIGHT
END:VTIMEZONE
BEGIN:VEVENT
DESCRIPTION:2024 Annual Meeting by the American Academy of Neurology\n\nTi
 tle: AAN Section Spotlight: Inclusivity\, Equity\, and Cultural Humility 
 as Means to Enhance Neurology and Improve Care for our Diverse Population
  \n\nAccess URL: https://www.aan.com/msa/Public/Events/GetEventURL/17732\
 n\nLearn More About This Event: https://www.aan.com/msa/Public/Events/Det
 ails/17732
DTEND;TZID=Mountain Standard Time:20240413T160000
DTSTAMP:20260423T164901Z
DTSTART;TZID=Mountain Standard Time:20240413T150000
LOCATION:https://www.aan.com/msa/Public/Events/GetEventURL/17732
SEQUENCE:0
SUMMARY:AAN: AAN Section Spotlight: Inclusivity\, Equity\, and Cultural Hu
 mility as Means to Enhance Neurology and Improve Care for our Diverse Pop
 ulation
UID:edb4eb79-c00e-40c1-943b-a43172df7999
END:VEVENT
END:VCALENDAR
