BEGIN:VCALENDAR
PRODID:-//github.com/rianjs/ical.net//NONSGML ical.net 4.0//EN
VERSION:2.0
BEGIN:VTIMEZONE
TZID:Mountain Standard Time
X-LIC-LOCATION:America/Denver
BEGIN:STANDARD
DTSTART:20241103T020000
RRULE:FREQ=YEARLY;BYDAY=1SU;BYMONTH=11
TZNAME:MST
TZOFFSETFROM:-0600
TZOFFSETTO:-0700
END:STANDARD
BEGIN:DAYLIGHT
DTSTART:20250309T020000
RRULE:FREQ=YEARLY;BYDAY=2SU;BYMONTH=3
TZNAME:MDT
TZOFFSETFROM:-0700
TZOFFSETTO:-0600
END:DAYLIGHT
END:VTIMEZONE
BEGIN:VEVENT
DESCRIPTION:2024 Annual Meeting by the American Academy of Neurology\n\nTi
 tle: AAN Section Spotlight: Interviews with Black Pioneers in Neurology\n
 \nAccess URL: https://www.aan.com/msa/Public/Events/GetEventURL/17740\n\n
 Learn More About This Event: https://www.aan.com/msa/Public/Events/Detail
 s/17740
DTEND;TZID=Mountain Standard Time:20240416T130000
DTSTAMP:20260423T165156Z
DTSTART;TZID=Mountain Standard Time:20240416T120000
LOCATION:https://www.aan.com/msa/Public/Events/GetEventURL/17740
SEQUENCE:0
SUMMARY:AAN: AAN Section Spotlight: Interviews with Black Pioneers in Neur
 ology
UID:6edd3564-8b76-4fcb-bec2-3935b0f055d4
END:VEVENT
END:VCALENDAR
