BEGIN:VCALENDAR
PRODID:-//github.com/rianjs/ical.net//NONSGML ical.net 4.0//EN
VERSION:2.0
BEGIN:VTIMEZONE
TZID:Eastern Standard Time
X-LIC-LOCATION:America/New_York
BEGIN:STANDARD
DTSTART:20241103T020000
RRULE:FREQ=YEARLY;BYDAY=1SU;BYMONTH=11
TZNAME:EST
TZOFFSETFROM:-0400
TZOFFSETTO:-0500
END:STANDARD
BEGIN:DAYLIGHT
DTSTART:20250309T020000
RRULE:FREQ=YEARLY;BYDAY=2SU;BYMONTH=3
TZNAME:EDT
TZOFFSETFROM:-0500
TZOFFSETTO:-0400
END:DAYLIGHT
END:VTIMEZONE
BEGIN:VEVENT
DESCRIPTION:2024 Summer Conference by the American Academy of Neurology\n\
 nTitle: Exhibit and Poster Hall Lunch\n\nLearn More About This Event: htt
 ps://www.aan.com/msa/Public/Events/Details/17810
DTEND;TZID=Eastern Standard Time:20240719T131500
DTSTAMP:20260421T204015Z
DTSTART;TZID=Eastern Standard Time:20240719T111500
LOCATION:https://www.aan.com/msa/Public/Events/GetEventURL/17810
SEQUENCE:0
SUMMARY:AAN: Exhibit and Poster Hall Lunch
UID:00a1295c-36ac-4632-8f50-3ad3d5e3c022
END:VEVENT
END:VCALENDAR
