BEGIN:VCALENDAR
PRODID:-//github.com/rianjs/ical.net//NONSGML ical.net 4.0//EN
VERSION:2.0
BEGIN:VTIMEZONE
TZID:Eastern Standard Time
X-LIC-LOCATION:America/New_York
BEGIN:STANDARD
DTSTART:20241103T020000
RRULE:FREQ=YEARLY;BYDAY=1SU;BYMONTH=11
TZNAME:EST
TZOFFSETFROM:-0400
TZOFFSETTO:-0500
END:STANDARD
BEGIN:DAYLIGHT
DTSTART:20250309T020000
RRULE:FREQ=YEARLY;BYDAY=2SU;BYMONTH=3
TZNAME:EDT
TZOFFSETFROM:-0500
TZOFFSETTO:-0400
END:DAYLIGHT
END:VTIMEZONE
BEGIN:VEVENT
DESCRIPTION:2024 Summer Conference by the American Academy of Neurology\n\
 nTitle: Regional Conference Subcommittee Meeting\n\nLearn More About This
  Event: https://www.aan.com/msa/Public/Events/Details/17827
DTEND;TZID=Eastern Standard Time:20240718T160000
DTSTAMP:20260421T204032Z
DTSTART;TZID=Eastern Standard Time:20240718T140000
LOCATION:https://www.aan.com/msa/Public/Events/GetEventURL/17827
SEQUENCE:0
SUMMARY:AAN: Regional Conference Subcommittee Meeting
UID:473f5675-c67e-4190-98db-7ec877664436
END:VEVENT
END:VCALENDAR
