BEGIN:VCALENDAR
PRODID:-//github.com/rianjs/ical.net//NONSGML ical.net 4.0//EN
VERSION:2.0
BEGIN:VTIMEZONE
TZID:Eastern Standard Time
X-LIC-LOCATION:America/New_York
BEGIN:STANDARD
DTSTART:20241103T020000
RRULE:FREQ=YEARLY;BYDAY=1SU;BYMONTH=11
TZNAME:EST
TZOFFSETFROM:-0400
TZOFFSETTO:-0500
END:STANDARD
BEGIN:DAYLIGHT
DTSTART:20250309T020000
RRULE:FREQ=YEARLY;BYDAY=2SU;BYMONTH=3
TZNAME:EDT
TZOFFSETFROM:-0500
TZOFFSETTO:-0400
END:DAYLIGHT
END:VTIMEZONE
BEGIN:VEVENT
DESCRIPTION:2024 Summer Conference by the American Academy of Neurology\n\
 nTitle: Saturday Breakfast\n\nLearn More About This Event: https://www.aa
 n.com/msa/Public/Events/Details/17834
DTEND;TZID=Eastern Standard Time:20240720T083000
DTSTAMP:20260421T204015Z
DTSTART;TZID=Eastern Standard Time:20240720T073000
LOCATION:https://www.aan.com/msa/Public/Events/GetEventURL/17834
SEQUENCE:0
SUMMARY:AAN: Saturday Breakfast
UID:c9286e01-4722-4188-bafd-def2e2d3a461
END:VEVENT
END:VCALENDAR
