BEGIN:VCALENDAR
PRODID:-//github.com/rianjs/ical.net//NONSGML ical.net 4.0//EN
VERSION:2.0
BEGIN:VTIMEZONE
TZID:Pacific Standard Time
X-LIC-LOCATION:America/Los_Angeles
BEGIN:STANDARD
DTSTART:20241103T020000
RRULE:FREQ=YEARLY;BYDAY=1SU;BYMONTH=11
TZNAME:PST
TZOFFSETFROM:-0700
TZOFFSETTO:-0800
END:STANDARD
BEGIN:DAYLIGHT
DTSTART:20250309T020000
RRULE:FREQ=YEARLY;BYDAY=2SU;BYMONTH=3
TZNAME:PDT
TZOFFSETFROM:-0800
TZOFFSETTO:-0700
END:DAYLIGHT
END:VTIMEZONE
BEGIN:VEVENT
DESCRIPTION:2025 Annual Meeting by the American Academy of Neurology\n\nTi
 tle: NPMSC In-Person Steering Committee Meeting\n\nDescription: This ICW 
 Event will be for the Network of Pediatric Multiple Sclerosis Centers (NP
 MSC) Steering Committee Meeting. The group will meet together to discuss 
 the network's research direction\, goals and progress.\n\nLearn More Abou
 t This Event: https://www.aan.com/msa/Public/Events/Details/18167
DTEND;TZID=Pacific Standard Time:20250407T200000
DTSTAMP:20260423T213917Z
DTSTART;TZID=Pacific Standard Time:20250407T080000
LOCATION:https://www.aan.com/msa/Public/Events/GetEventURL/18167
SEQUENCE:0
SUMMARY:AAN: NPMSC In-Person Steering Committee Meeting
UID:16e1d361-a238-45c9-849f-a4dfd7d9f72c
END:VEVENT
END:VCALENDAR
