BEGIN:VCALENDAR
PRODID:-//github.com/rianjs/ical.net//NONSGML ical.net 4.0//EN
VERSION:2.0
BEGIN:VTIMEZONE
TZID:Pacific Standard Time
X-LIC-LOCATION:America/Los_Angeles
BEGIN:STANDARD
DTSTART:20241103T020000
RRULE:FREQ=YEARLY;BYDAY=1SU;BYMONTH=11
TZNAME:PST
TZOFFSETFROM:-0700
TZOFFSETTO:-0800
END:STANDARD
BEGIN:DAYLIGHT
DTSTART:20250309T020000
RRULE:FREQ=YEARLY;BYDAY=2SU;BYMONTH=3
TZNAME:PDT
TZOFFSETFROM:-0800
TZOFFSETTO:-0700
END:DAYLIGHT
END:VTIMEZONE
BEGIN:VEVENT
DESCRIPTION:2025 Annual Meeting by the American Academy of Neurology\n\nTi
 tle: Brain Health Committee Meeting\n\nDescription: Regular business meet
 ing of the Brain Health Committee.\n\nLearn More About This Event: https:
 //www.aan.com/msa/Public/Events/Details/18170
DTEND;TZID=Pacific Standard Time:20250407T170000
DTSTAMP:20260424T123438Z
DTSTART;TZID=Pacific Standard Time:20250407T150000
LOCATION:https://www.aan.com/msa/Public/Events/GetEventURL/18170
SEQUENCE:0
SUMMARY:AAN: Brain Health Committee Meeting
UID:bb40c1e0-e0a7-40fa-ac64-8441a5006f36
END:VEVENT
END:VCALENDAR
