BEGIN:VCALENDAR
PRODID:-//github.com/rianjs/ical.net//NONSGML ical.net 4.0//EN
VERSION:2.0
BEGIN:VTIMEZONE
TZID:Pacific Standard Time
X-LIC-LOCATION:America/Los_Angeles
BEGIN:STANDARD
DTSTART:20241103T020000
RRULE:FREQ=YEARLY;BYDAY=1SU;BYMONTH=11
TZNAME:PST
TZOFFSETFROM:-0700
TZOFFSETTO:-0800
END:STANDARD
BEGIN:DAYLIGHT
DTSTART:20250309T020000
RRULE:FREQ=YEARLY;BYDAY=2SU;BYMONTH=3
TZNAME:PDT
TZOFFSETFROM:-0800
TZOFFSETTO:-0700
END:DAYLIGHT
END:VTIMEZONE
BEGIN:VEVENT
DESCRIPTION:2025 Annual Meeting by the American Academy of Neurology\n\nTi
 tle: Department Chair Meeting\n\nDescription: This is a meeting for acade
 mic neurology department chairs from across the country. There will be a 
 panel discussion followed by a networking session. \n\nLearn More About T
 his Event: https://www.aan.com/msa/Public/Events/Details/18187
DTEND;TZID=Pacific Standard Time:20250407T170000
DTSTAMP:20260423T213814Z
DTSTART;TZID=Pacific Standard Time:20250407T143000
LOCATION:https://www.aan.com/msa/Public/Events/GetEventURL/18187
SEQUENCE:0
SUMMARY:AAN: Department Chair Meeting
UID:3a857aee-6303-4a80-8e6f-15009104e77b
END:VEVENT
END:VCALENDAR
