BEGIN:VCALENDAR
PRODID:-//github.com/rianjs/ical.net//NONSGML ical.net 4.0//EN
VERSION:2.0
BEGIN:VTIMEZONE
TZID:Pacific Standard Time
X-LIC-LOCATION:America/Los_Angeles
BEGIN:STANDARD
DTSTART:20241103T020000
RRULE:FREQ=YEARLY;BYDAY=1SU;BYMONTH=11
TZNAME:PST
TZOFFSETFROM:-0700
TZOFFSETTO:-0800
END:STANDARD
BEGIN:DAYLIGHT
DTSTART:20250309T020000
RRULE:FREQ=YEARLY;BYDAY=2SU;BYMONTH=3
TZNAME:PDT
TZOFFSETFROM:-0800
TZOFFSETTO:-0700
END:DAYLIGHT
END:VTIMEZONE
BEGIN:VEVENT
DESCRIPTION:2025 Annual Meeting by the American Academy of Neurology\n\nTi
 tle: argenx Meeting\n\nDescription: argenx internal meetings\n\nLearn Mor
 e About This Event: https://www.aan.com/msa/Public/Events/Details/18246
DTEND;TZID=Pacific Standard Time;VALUE=DATE:20250409
DTSTAMP:20260424T095736Z
DTSTART;TZID=Pacific Standard Time;VALUE=DATE:20250405
LOCATION:https://www.aan.com/msa/Public/Events/GetEventURL/18246
SEQUENCE:0
SUMMARY:AAN: argenx Meeting
UID:a745c336-30b9-4d5f-81a1-05c1b448bf9c
END:VEVENT
END:VCALENDAR
