BEGIN:VCALENDAR
PRODID:-//github.com/rianjs/ical.net//NONSGML ical.net 4.0//EN
VERSION:2.0
BEGIN:VTIMEZONE
TZID:Pacific Standard Time
X-LIC-LOCATION:America/Los_Angeles
BEGIN:STANDARD
DTSTART:20241103T020000
RRULE:FREQ=YEARLY;BYDAY=1SU;BYMONTH=11
TZNAME:PST
TZOFFSETFROM:-0700
TZOFFSETTO:-0800
END:STANDARD
BEGIN:DAYLIGHT
DTSTART:20250309T020000
RRULE:FREQ=YEARLY;BYDAY=2SU;BYMONTH=3
TZNAME:PDT
TZOFFSETFROM:-0800
TZOFFSETTO:-0700
END:DAYLIGHT
END:VTIMEZONE
BEGIN:VEVENT
DESCRIPTION:2025 Annual Meeting by the American Academy of Neurology\n\nTi
 tle: Industry Therapeutic Update from Novartis Pharmaceuticals: Understan
 ding BTK Signaling in Neurology: Exploring This Pathway in Neuroinflammat
 ion \n\nAccess URL: https://www.aan.com/msa/Public/Events/GetEventURL/182
 95\n\nLearn More About This Event: https://www.aan.com/msa/Public/Events/
 Details/18295
DTEND;TZID=Pacific Standard Time:20250408T124500
DTSTAMP:20260424T122017Z
DTSTART;TZID=Pacific Standard Time:20250408T114500
LOCATION:https://www.aan.com/msa/Public/Events/GetEventURL/18295
SEQUENCE:0
SUMMARY:AAN: Industry Therapeutic Update from Novartis Pharmaceuticals: Un
 derstanding BTK Signaling in Neurology: Exploring This Pathway in Neuroin
 flammation
UID:e71bf100-5026-4e7f-b21f-276493899cd3
END:VEVENT
END:VCALENDAR
