BEGIN:VCALENDAR
PRODID:-//github.com/rianjs/ical.net//NONSGML ical.net 4.0//EN
VERSION:2.0
BEGIN:VTIMEZONE
TZID:Pacific Standard Time
X-LIC-LOCATION:America/Los_Angeles
BEGIN:STANDARD
DTSTART:20241103T020000
RRULE:FREQ=YEARLY;BYDAY=1SU;BYMONTH=11
TZNAME:PST
TZOFFSETFROM:-0700
TZOFFSETTO:-0800
END:STANDARD
BEGIN:DAYLIGHT
DTSTART:20250309T020000
RRULE:FREQ=YEARLY;BYDAY=2SU;BYMONTH=3
TZNAME:PDT
TZOFFSETFROM:-0800
TZOFFSETTO:-0700
END:DAYLIGHT
END:VTIMEZONE
BEGIN:VEVENT
DESCRIPTION:2025 Annual Meeting by the American Academy of Neurology\n\nTi
 tle: University of Michigan Neurology Alumni dinner\n\nDescription: Dinne
 r/reception with all neurology alumni and family that are attending AAN c
 onference.\n\nLearn More About This Event: https://www.aan.com/msa/Public
 /Events/Details/18315
DTEND;TZID=Pacific Standard Time:20250408T210000
DTSTAMP:20260424T122018Z
DTSTART;TZID=Pacific Standard Time:20250408T180000
LOCATION:https://www.aan.com/msa/Public/Events/GetEventURL/18315
SEQUENCE:0
SUMMARY:AAN: University of Michigan Neurology Alumni dinner
UID:fdfe7a68-c90a-4831-8160-e430ec3e47e4
END:VEVENT
END:VCALENDAR
