BEGIN:VCALENDAR
PRODID:-//github.com/rianjs/ical.net//NONSGML ical.net 4.0//EN
VERSION:2.0
BEGIN:VTIMEZONE
TZID:Pacific Standard Time
X-LIC-LOCATION:America/Los_Angeles
BEGIN:STANDARD
DTSTART:20241103T020000
RRULE:FREQ=YEARLY;BYDAY=1SU;BYMONTH=11
TZNAME:PST
TZOFFSETFROM:-0700
TZOFFSETTO:-0800
END:STANDARD
BEGIN:DAYLIGHT
DTSTART:20250309T020000
RRULE:FREQ=YEARLY;BYDAY=2SU;BYMONTH=3
TZNAME:PDT
TZOFFSETFROM:-0800
TZOFFSETTO:-0700
END:DAYLIGHT
END:VTIMEZONE
BEGIN:VEVENT
DESCRIPTION:2025 Annual Meeting by the American Academy of Neurology\n\nTi
 tle: American Brain Foundation Breakfast of Champions: A Confab with ABF 
 Board\, Ambassadors\, Research Alumni & Staff (invite only breakfast)\n\n
 Description: Buffet breakfast for ABF board\, Ambassadors\, Research Alum
 ni and staff. Invite only. \n\nLearn More About This Event: https://www.a
 an.com/msa/Public/Events/Details/18368
DTEND;TZID=Pacific Standard Time:20250406T093000
DTSTAMP:20260424T040110Z
DTSTART;TZID=Pacific Standard Time:20250406T074500
LOCATION:https://www.aan.com/msa/Public/Events/GetEventURL/18368
SEQUENCE:0
SUMMARY:AAN: American Brain Foundation Breakfast of Champions: A Confab wi
 th ABF Board\, Ambassadors\, Research Alumni & Staff (invite only breakfa
 st)
UID:78d0aca4-cce0-4d03-b1db-5de4894fc409
END:VEVENT
END:VCALENDAR
