BEGIN:VCALENDAR
PRODID:-//github.com/rianjs/ical.net//NONSGML ical.net 4.0//EN
VERSION:2.0
BEGIN:VTIMEZONE
TZID:Pacific Standard Time
X-LIC-LOCATION:America/Los_Angeles
BEGIN:STANDARD
DTSTART:20241103T020000
RRULE:FREQ=YEARLY;BYDAY=1SU;BYMONTH=11
TZNAME:PST
TZOFFSETFROM:-0700
TZOFFSETTO:-0800
END:STANDARD
BEGIN:DAYLIGHT
DTSTART:20250309T020000
RRULE:FREQ=YEARLY;BYDAY=2SU;BYMONTH=3
TZNAME:PDT
TZOFFSETFROM:-0800
TZOFFSETTO:-0700
END:DAYLIGHT
END:VTIMEZONE
BEGIN:VEVENT
DESCRIPTION:2025 Annual Meeting by the American Academy of Neurology\n\nTi
 tle: AAN Adult IDD Section Supporting San Diego Regional IDD Dementia Car
 e\n\nDescription: Adults with Intellectual and Developmental Disabilities
  (IDD) are living longer than ever before and the risk of dementia is inc
 reasing and yet their care and supports are lacking. This ICW event will 
 bring together local and regional leaders in aging\, dementia and IDD lea
 ders. Noah Homes will help support this event in partnership with the Adu
 lt IDD Section as well as the National Task Group on Intellectual Disabil
 ities and Dementia Practices. The CMS GUIDE Program will be reviewed as a
  potential focus that can provide best dementia practices. \n\nLearn More
  About This Event: https://www.aan.com/msa/Public/Events/Details/18484
DTEND;TZID=Pacific Standard Time:20250406T120000
DTSTAMP:20260424T030846Z
DTSTART;TZID=Pacific Standard Time:20250406T080000
LOCATION:https://www.aan.com/msa/Public/Events/GetEventURL/18484
SEQUENCE:0
SUMMARY:AAN: AAN Adult IDD Section Supporting San Diego Regional IDD Demen
 tia Care
UID:1b213a57-7901-4de7-95e3-8d9eb2292435
END:VEVENT
END:VCALENDAR
