BEGIN:VCALENDAR
PRODID:-//github.com/rianjs/ical.net//NONSGML ical.net 4.0//EN
VERSION:2.0
BEGIN:VTIMEZONE
TZID:Pacific Standard Time
X-LIC-LOCATION:America/Los_Angeles
BEGIN:STANDARD
DTSTART:20241103T020000
RRULE:FREQ=YEARLY;BYDAY=1SU;BYMONTH=11
TZNAME:PST
TZOFFSETFROM:-0700
TZOFFSETTO:-0800
END:STANDARD
BEGIN:DAYLIGHT
DTSTART:20250309T020000
RRULE:FREQ=YEARLY;BYDAY=2SU;BYMONTH=3
TZNAME:PDT
TZOFFSETFROM:-0800
TZOFFSETTO:-0700
END:DAYLIGHT
END:VTIMEZONE
BEGIN:VEVENT
DESCRIPTION:2025 Annual Meeting by the American Academy of Neurology\n\nTi
 tle: Genentech Staff Office\n\nDescription: This meeting will serve as a 
 collaborative workspace for our staff and various logistics vendors to di
 scuss and coordinate operations.\n\nLearn More About This Event: https://
 www.aan.com/msa/Public/Events/Details/18570
DTEND;TZID=Pacific Standard Time;VALUE=DATE:20250409
DTSTAMP:20260424T100038Z
DTSTART;TZID=Pacific Standard Time;VALUE=DATE:20250403
LOCATION:https://www.aan.com/msa/Public/Events/GetEventURL/18570
SEQUENCE:0
SUMMARY:AAN: Genentech Staff Office
UID:ed00ad65-c534-41c1-971c-74f8fe6beb83
END:VEVENT
END:VCALENDAR
