BEGIN:VCALENDAR
PRODID:-//github.com/rianjs/ical.net//NONSGML ical.net 4.0//EN
VERSION:2.0
BEGIN:VTIMEZONE
TZID:Pacific Standard Time
X-LIC-LOCATION:America/Los_Angeles
BEGIN:STANDARD
DTSTART:20241103T020000
RRULE:FREQ=YEARLY;BYDAY=1SU;BYMONTH=11
TZNAME:PST
TZOFFSETFROM:-0700
TZOFFSETTO:-0800
END:STANDARD
BEGIN:DAYLIGHT
DTSTART:20250309T020000
RRULE:FREQ=YEARLY;BYDAY=2SU;BYMONTH=3
TZNAME:PDT
TZOFFSETFROM:-0800
TZOFFSETTO:-0700
END:DAYLIGHT
END:VTIMEZONE
BEGIN:VEVENT
DESCRIPTION:2025 Annual Meeting by the American Academy of Neurology\n\nTi
 tle: Academic Neurology Committee Meeting\n\nDescription: This is the AAN
  Academic Neurology Committee. This is a closed event and specific to the
  Committee members only along with representation from the Presidential L
 ine and CEO.\n\nLearn More About This Event: https://www.aan.com/msa/Publ
 ic/Events/Details/18578
DTEND;TZID=Pacific Standard Time:20250408T133000
DTSTAMP:20260424T072301Z
DTSTART;TZID=Pacific Standard Time:20250408T113000
LOCATION:https://www.aan.com/msa/Public/Events/GetEventURL/18578
SEQUENCE:0
SUMMARY:AAN: Academic Neurology Committee Meeting
UID:87d21b79-2538-4d48-9424-73d067221908
END:VEVENT
END:VCALENDAR
