BEGIN:VCALENDAR
PRODID:-//github.com/rianjs/ical.net//NONSGML ical.net 4.0//EN
VERSION:2.0
BEGIN:VTIMEZONE
TZID:Pacific Standard Time
X-LIC-LOCATION:America/Los_Angeles
BEGIN:STANDARD
DTSTART:20241103T020000
RRULE:FREQ=YEARLY;BYDAY=1SU;BYMONTH=11
TZNAME:PST
TZOFFSETFROM:-0700
TZOFFSETTO:-0800
END:STANDARD
BEGIN:DAYLIGHT
DTSTART:20250309T020000
RRULE:FREQ=YEARLY;BYDAY=2SU;BYMONTH=3
TZNAME:PDT
TZOFFSETFROM:-0800
TZOFFSETTO:-0700
END:DAYLIGHT
END:VTIMEZONE
BEGIN:VEVENT
DESCRIPTION:2025 Annual Meeting by the American Academy of Neurology\n\nTi
 tle: Alnylam Meetings\n\nDescription: Pop up meetings 1:1 with HCPs and S
 taff Office\n\nLearn More About This Event: https://www.aan.com/msa/Publi
 c/Events/Details/18579
DTEND;TZID=Pacific Standard Time;VALUE=DATE:20250409
DTSTAMP:20260424T021859Z
DTSTART;TZID=Pacific Standard Time;VALUE=DATE:20250404
LOCATION:https://www.aan.com/msa/Public/Events/GetEventURL/18579
SEQUENCE:0
SUMMARY:AAN: Alnylam Meetings
UID:e67f2ae8-8f2f-415e-8b0c-1047e8ad2de9
END:VEVENT
END:VCALENDAR
