BEGIN:VCALENDAR
PRODID:-//github.com/rianjs/ical.net//NONSGML ical.net 4.0//EN
VERSION:2.0
BEGIN:VTIMEZONE
TZID:Pacific Standard Time
X-LIC-LOCATION:America/Los_Angeles
BEGIN:STANDARD
DTSTART:20241103T020000
RRULE:FREQ=YEARLY;BYDAY=1SU;BYMONTH=11
TZNAME:PST
TZOFFSETFROM:-0700
TZOFFSETTO:-0800
END:STANDARD
BEGIN:DAYLIGHT
DTSTART:20250309T020000
RRULE:FREQ=YEARLY;BYDAY=2SU;BYMONTH=3
TZNAME:PDT
TZOFFSETFROM:-0800
TZOFFSETTO:-0700
END:DAYLIGHT
END:VTIMEZONE
BEGIN:VEVENT
DESCRIPTION:2025 Annual Meeting by the American Academy of Neurology\n\nTi
 tle: Sanofi Riliprubart HCP Positioning Meeting\n\nDescription: This will
  be in an internal Sanofi meeting for members of our global and affiliate
  marketing teams\, with our agency partners to work a strategic internal 
 HCP Positioning Project.\n\nLearn More About This Event: https://www.aan.
 com/msa/Public/Events/Details/18581
DTEND;TZID=Pacific Standard Time:20250404T160000
DTSTAMP:20260423T213657Z
DTSTART;TZID=Pacific Standard Time:20250404T090000
LOCATION:https://www.aan.com/msa/Public/Events/GetEventURL/18581
SEQUENCE:0
SUMMARY:AAN: Sanofi Riliprubart HCP Positioning Meeting
UID:00975719-410a-49bb-8535-7c1916306327
END:VEVENT
END:VCALENDAR
