BEGIN:VCALENDAR
PRODID:-//github.com/rianjs/ical.net//NONSGML ical.net 4.0//EN
VERSION:2.0
BEGIN:VTIMEZONE
TZID:Pacific Standard Time
X-LIC-LOCATION:America/Los_Angeles
BEGIN:STANDARD
DTSTART:20241103T020000
RRULE:FREQ=YEARLY;BYDAY=1SU;BYMONTH=11
TZNAME:PST
TZOFFSETFROM:-0700
TZOFFSETTO:-0800
END:STANDARD
BEGIN:DAYLIGHT
DTSTART:20250309T020000
RRULE:FREQ=YEARLY;BYDAY=2SU;BYMONTH=3
TZNAME:PDT
TZOFFSETFROM:-0800
TZOFFSETTO:-0700
END:DAYLIGHT
END:VTIMEZONE
BEGIN:VEVENT
DESCRIPTION:2025 Annual Meeting by the American Academy of Neurology\n\nTi
 tle: Leadership University Recording Room \n\nDescription: Looking for a 
 small room that can fit 3 people at a time\, with a door to minimize soun
 d. Ideally this could be near the LU hub\, but can be flexible. Could be 
 an office or small hospitality room - will just need 3 chairs and a table
 . \n\nLearn More About This Event: https://www.aan.com/msa/Public/Events/
 Details/18627
DTEND;TZID=Pacific Standard Time:20250408T170000
DTSTAMP:20260424T021859Z
DTSTART;TZID=Pacific Standard Time:20250408T080000
LOCATION:https://www.aan.com/msa/Public/Events/GetEventURL/18627
SEQUENCE:0
SUMMARY:AAN: Leadership University Recording Room
UID:c44862a9-d2e6-45ea-9e5d-e28e440328c2
END:VEVENT
END:VCALENDAR
