BEGIN:VCALENDAR
PRODID:-//github.com/rianjs/ical.net//NONSGML ical.net 4.0//EN
VERSION:2.0
BEGIN:VTIMEZONE
TZID:Pacific Standard Time
X-LIC-LOCATION:America/Los_Angeles
BEGIN:STANDARD
DTSTART:20241103T020000
RRULE:FREQ=YEARLY;BYDAY=1SU;BYMONTH=11
TZNAME:PST
TZOFFSETFROM:-0700
TZOFFSETTO:-0800
END:STANDARD
BEGIN:DAYLIGHT
DTSTART:20250309T020000
RRULE:FREQ=YEARLY;BYDAY=2SU;BYMONTH=3
TZNAME:PDT
TZOFFSETFROM:-0800
TZOFFSETTO:-0700
END:DAYLIGHT
END:VTIMEZONE
BEGIN:VEVENT
DESCRIPTION:2025 Annual Meeting by the American Academy of Neurology\n\nTi
 tle: Research Alumni Event \n\nDescription: Research Program Alumni Event
  - all past research program are invited to meet the 2025 recipients.  Wi
 ll like to invite Dr. Jackson and Mary Post to attend.  \n\nLearn More Ab
 out This Event: https://www.aan.com/msa/Public/Events/Details/18642
DTEND;TZID=Pacific Standard Time:20250408T190000
DTSTAMP:20260424T082512Z
DTSTART;TZID=Pacific Standard Time:20250408T173000
LOCATION:https://www.aan.com/msa/Public/Events/GetEventURL/18642
SEQUENCE:0
SUMMARY:AAN: Research Alumni Event
UID:d98a95ee-643a-4742-b296-c0c4e3926ac3
END:VEVENT
END:VCALENDAR
