BEGIN:VCALENDAR
PRODID:-//github.com/rianjs/ical.net//NONSGML ical.net 4.0//EN
VERSION:2.0
BEGIN:VTIMEZONE
TZID:Pacific Standard Time
X-LIC-LOCATION:America/Los_Angeles
BEGIN:STANDARD
DTSTART:20241103T020000
RRULE:FREQ=YEARLY;BYDAY=1SU;BYMONTH=11
TZNAME:PST
TZOFFSETFROM:-0700
TZOFFSETTO:-0800
END:STANDARD
BEGIN:DAYLIGHT
DTSTART:20250309T020000
RRULE:FREQ=YEARLY;BYDAY=2SU;BYMONTH=3
TZNAME:PDT
TZOFFSETFROM:-0800
TZOFFSETTO:-0700
END:DAYLIGHT
END:VTIMEZONE
BEGIN:VEVENT
DESCRIPTION:2025 Annual Meeting by the American Academy of Neurology\n\nTi
 tle: Research Program Breakfast \n\nDescription: High profile breakfast e
 vent that celebrates the 2025 research program recipients.  Audience incl
 udes AAN leadership\, ABF leadership\, Funding Partners\, Science Committ
 ee\, Research Program Subcommittee. \n\n\nLearn More About This Event: ht
 tps://www.aan.com/msa/Public/Events/Details/18645
DTEND;TZID=Pacific Standard Time:20250408T083000
DTSTAMP:20260424T072255Z
DTSTART;TZID=Pacific Standard Time:20250408T070000
LOCATION:https://www.aan.com/msa/Public/Events/GetEventURL/18645
SEQUENCE:0
SUMMARY:AAN: Research Program Breakfast
UID:5d91ae54-6dd9-4f20-9dda-e28a7093e1f8
END:VEVENT
END:VCALENDAR
