BEGIN:VCALENDAR
PRODID:-//github.com/rianjs/ical.net//NONSGML ical.net 4.0//EN
VERSION:2.0
BEGIN:VTIMEZONE
TZID:Pacific Standard Time
X-LIC-LOCATION:America/Los_Angeles
BEGIN:STANDARD
DTSTART:20241103T020000
RRULE:FREQ=YEARLY;BYDAY=1SU;BYMONTH=11
TZNAME:PST
TZOFFSETFROM:-0700
TZOFFSETTO:-0800
END:STANDARD
BEGIN:DAYLIGHT
DTSTART:20250309T020000
RRULE:FREQ=YEARLY;BYDAY=2SU;BYMONTH=3
TZNAME:PDT
TZOFFSETFROM:-0800
TZOFFSETTO:-0700
END:DAYLIGHT
END:VTIMEZONE
BEGIN:VEVENT
DESCRIPTION:2025 Annual Meeting by the American Academy of Neurology\n\nTi
 tle: NeuroSAE Business Meeting\n\nDescription: This meeting is a NeuroSAE
  Workgroup meeting.\n\nLearn More About This Event: https://www.aan.com/m
 sa/Public/Events/Details/18665
DTEND;TZID=Pacific Standard Time:20250407T143000
DTSTAMP:20260423T213615Z
DTSTART;TZID=Pacific Standard Time:20250407T133000
LOCATION:https://www.aan.com/msa/Public/Events/GetEventURL/18665
SEQUENCE:0
SUMMARY:AAN: NeuroSAE Business Meeting
UID:bd669d2d-c4f3-4934-9788-dcaa0db47ee2
END:VEVENT
END:VCALENDAR
