BEGIN:VCALENDAR
PRODID:-//github.com/rianjs/ical.net//NONSGML ical.net 4.0//EN
VERSION:2.0
BEGIN:VTIMEZONE
TZID:Pacific Standard Time
X-LIC-LOCATION:America/Los_Angeles
BEGIN:STANDARD
DTSTART:20241103T020000
RRULE:FREQ=YEARLY;BYDAY=1SU;BYMONTH=11
TZNAME:PST
TZOFFSETFROM:-0700
TZOFFSETTO:-0800
END:STANDARD
BEGIN:DAYLIGHT
DTSTART:20250309T020000
RRULE:FREQ=YEARLY;BYDAY=2SU;BYMONTH=3
TZNAME:PDT
TZOFFSETFROM:-0800
TZOFFSETTO:-0700
END:DAYLIGHT
END:VTIMEZONE
BEGIN:VEVENT
DESCRIPTION:2025 Annual Meeting by the American Academy of Neurology\n\nTi
 tle: Industry Roundtable Luncheon\n\nDescription: The Industry Roundtable
  Luncheon gives industry partners an opportunity to learn about AAN prior
 ities from AAN leadership and join breakout groups/a Q&A session to netwo
 rk with other industry partners and discuss topics of interest to industr
 y. The event will include one meal\, and our intended audience will be up
  to 150 individuals from Industry Roundtable companies + AAN executive le
 adership and staff in attendance.\n\nLearn More About This Event: https:/
 /www.aan.com/msa/Public/Events/Details/18681
DTEND;TZID=Pacific Standard Time:20250407T140000
DTSTAMP:20260424T095900Z
DTSTART;TZID=Pacific Standard Time:20250407T120000
LOCATION:https://www.aan.com/msa/Public/Events/GetEventURL/18681
SEQUENCE:0
SUMMARY:AAN: Industry Roundtable Luncheon
UID:959baa10-c3b6-409e-a9db-b0fcad38f811
END:VEVENT
END:VCALENDAR
