BEGIN:VCALENDAR
PRODID:-//github.com/rianjs/ical.net//NONSGML ical.net 4.0//EN
VERSION:2.0
BEGIN:VTIMEZONE
TZID:Pacific Standard Time
X-LIC-LOCATION:America/Los_Angeles
BEGIN:STANDARD
DTSTART:20241103T020000
RRULE:FREQ=YEARLY;BYDAY=1SU;BYMONTH=11
TZNAME:PST
TZOFFSETFROM:-0700
TZOFFSETTO:-0800
END:STANDARD
BEGIN:DAYLIGHT
DTSTART:20250309T020000
RRULE:FREQ=YEARLY;BYDAY=2SU;BYMONTH=3
TZNAME:PDT
TZOFFSETFROM:-0800
TZOFFSETTO:-0700
END:DAYLIGHT
END:VTIMEZONE
BEGIN:VEVENT
DESCRIPTION:2025 Annual Meeting by the American Academy of Neurology\n\nTi
 tle: Publications Committee Meeting\n\nDescription: AAN Publications Comm
 ittee Meeting to discuss editorial and business needs.\n\nLearn More Abou
 t This Event: https://www.aan.com/msa/Public/Events/Details/18683
DTEND;TZID=Pacific Standard Time:20250406T125000
DTSTAMP:20260423T213312Z
DTSTART;TZID=Pacific Standard Time:20250406T160000
LOCATION:https://www.aan.com/msa/Public/Events/GetEventURL/18683
SEQUENCE:0
SUMMARY:AAN: Publications Committee Meeting
UID:49ed1f6f-b697-423b-9788-94db881f43ac
END:VEVENT
END:VCALENDAR
