BEGIN:VCALENDAR
PRODID:-//github.com/rianjs/ical.net//NONSGML ical.net 4.0//EN
VERSION:2.0
BEGIN:VTIMEZONE
TZID:Pacific Standard Time
X-LIC-LOCATION:America/Los_Angeles
BEGIN:STANDARD
DTSTART:20241103T020000
RRULE:FREQ=YEARLY;BYDAY=1SU;BYMONTH=11
TZNAME:PST
TZOFFSETFROM:-0700
TZOFFSETTO:-0800
END:STANDARD
BEGIN:DAYLIGHT
DTSTART:20250309T020000
RRULE:FREQ=YEARLY;BYDAY=2SU;BYMONTH=3
TZNAME:PDT
TZOFFSETFROM:-0800
TZOFFSETTO:-0700
END:DAYLIGHT
END:VTIMEZONE
BEGIN:VEVENT
DESCRIPTION:2025 Annual Meeting by the American Academy of Neurology\n\nTi
 tle: Global Advocacy Leadership Program Lunch\n\nLearn More About This Ev
 ent: https://www.aan.com/msa/Public/Events/Details/18697
DTEND;TZID=Pacific Standard Time:20250404T130000
DTSTAMP:20260423T154314Z
DTSTART;TZID=Pacific Standard Time:20250404T120000
LOCATION:https://www.aan.com/msa/Public/Events/GetEventURL/18697
SEQUENCE:0
SUMMARY:AAN: Global Advocacy Leadership Program Lunch
UID:d15a40bd-50d4-48d7-a244-1883dc4305c5
END:VEVENT
END:VCALENDAR
