BEGIN:VCALENDAR
PRODID:-//github.com/rianjs/ical.net//NONSGML ical.net 4.0//EN
VERSION:2.0
BEGIN:VTIMEZONE
TZID:Pacific Standard Time
X-LIC-LOCATION:America/Los_Angeles
BEGIN:STANDARD
DTSTART:20241103T020000
RRULE:FREQ=YEARLY;BYDAY=1SU;BYMONTH=11
TZNAME:PST
TZOFFSETFROM:-0700
TZOFFSETTO:-0800
END:STANDARD
BEGIN:DAYLIGHT
DTSTART:20250309T020000
RRULE:FREQ=YEARLY;BYDAY=2SU;BYMONTH=3
TZNAME:PDT
TZOFFSETFROM:-0800
TZOFFSETTO:-0700
END:DAYLIGHT
END:VTIMEZONE
BEGIN:VEVENT
DESCRIPTION:2025 Annual Meeting by the American Academy of Neurology\n\nTi
 tle: Neurology Podcast/Neurology Minute Team Meeting\n\nDescription: Neur
 ology Podcast/Neurology Minute Editorial Boards meet to discuss goals and
  objectives and also celebrations over the last year.\n\nLearn More About
  This Event: https://www.aan.com/msa/Public/Events/Details/18704
DTEND;TZID=Pacific Standard Time:20250407T170000
DTSTAMP:20260423T234316Z
DTSTART;TZID=Pacific Standard Time:20250407T160000
LOCATION:https://www.aan.com/msa/Public/Events/GetEventURL/18704
SEQUENCE:0
SUMMARY:AAN: Neurology Podcast/Neurology Minute Team Meeting
UID:1c867cf4-e8ea-4efd-8811-d5ed9c6adb5e
END:VEVENT
END:VCALENDAR
