BEGIN:VCALENDAR
PRODID:-//github.com/rianjs/ical.net//NONSGML ical.net 4.0//EN
VERSION:2.0
BEGIN:VTIMEZONE
TZID:Pacific Standard Time
X-LIC-LOCATION:America/Los_Angeles
BEGIN:STANDARD
DTSTART:20241103T020000
RRULE:FREQ=YEARLY;BYDAY=1SU;BYMONTH=11
TZNAME:PST
TZOFFSETFROM:-0700
TZOFFSETTO:-0800
END:STANDARD
BEGIN:DAYLIGHT
DTSTART:20250309T020000
RRULE:FREQ=YEARLY;BYDAY=2SU;BYMONTH=3
TZNAME:PDT
TZOFFSETFROM:-0800
TZOFFSETTO:-0700
END:DAYLIGHT
END:VTIMEZONE
BEGIN:VEVENT
DESCRIPTION:2025 Annual Meeting by the American Academy of Neurology\n\nTi
 tle: Diversity Officer Meet and Greet\n\nDescription: Diversity Officer M
 eet and Greet\n\nLearn More About This Event: https://www.aan.com/msa/Pub
 lic/Events/Details/18705
DTEND;TZID=Pacific Standard Time:20250406T090000
DTSTAMP:20260423T213815Z
DTSTART;TZID=Pacific Standard Time:20250406T074500
LOCATION:https://www.aan.com/msa/Public/Events/GetEventURL/18705
SEQUENCE:0
SUMMARY:AAN: Diversity Officer Meet and Greet
UID:d838b6f5-c3bd-4a25-9184-f0f82a5fbf27
END:VEVENT
END:VCALENDAR
