BEGIN:VCALENDAR
PRODID:-//github.com/rianjs/ical.net//NONSGML ical.net 4.0//EN
VERSION:2.0
BEGIN:VTIMEZONE
TZID:Pacific Standard Time
X-LIC-LOCATION:America/Los_Angeles
BEGIN:STANDARD
DTSTART:20241103T020000
RRULE:FREQ=YEARLY;BYDAY=1SU;BYMONTH=11
TZNAME:PST
TZOFFSETFROM:-0700
TZOFFSETTO:-0800
END:STANDARD
BEGIN:DAYLIGHT
DTSTART:20250309T020000
RRULE:FREQ=YEARLY;BYDAY=2SU;BYMONTH=3
TZNAME:PDT
TZOFFSETFROM:-0800
TZOFFSETTO:-0700
END:DAYLIGHT
END:VTIMEZONE
BEGIN:VEVENT
DESCRIPTION:2025 Annual Meeting by the American Academy of Neurology\n\nTi
 tle: Neurology Resident & Fellow Section Meeting\n\nDescription: Neurolog
 y Resident & Fellow Section Team meet to discuss goals and objective and 
 celebrate accomplishments over the last year.\n\nLearn More About This Ev
 ent: https://www.aan.com/msa/Public/Events/Details/18707
DTEND;TZID=Pacific Standard Time:20250407T130000
DTSTAMP:20260424T021936Z
DTSTART;TZID=Pacific Standard Time:20250407T120000
LOCATION:https://www.aan.com/msa/Public/Events/GetEventURL/18707
SEQUENCE:0
SUMMARY:AAN: Neurology Resident & Fellow Section Meeting
UID:fbdbe13b-a308-40ee-a1ee-1aab236266cc
END:VEVENT
END:VCALENDAR
