BEGIN:VCALENDAR
PRODID:-//github.com/rianjs/ical.net//NONSGML ical.net 4.0//EN
VERSION:2.0
BEGIN:VTIMEZONE
TZID:Pacific Standard Time
X-LIC-LOCATION:America/Los_Angeles
BEGIN:STANDARD
DTSTART:20241103T020000
RRULE:FREQ=YEARLY;BYDAY=1SU;BYMONTH=11
TZNAME:PST
TZOFFSETFROM:-0700
TZOFFSETTO:-0800
END:STANDARD
BEGIN:DAYLIGHT
DTSTART:20250309T020000
RRULE:FREQ=YEARLY;BYDAY=2SU;BYMONTH=3
TZNAME:PDT
TZOFFSETFROM:-0800
TZOFFSETTO:-0700
END:DAYLIGHT
END:VTIMEZONE
BEGIN:VEVENT
DESCRIPTION:2025 Annual Meeting by the American Academy of Neurology\n\nTi
 tle: Axsome Advisory Board Meeting\n\nDescription: The goal of the meetin
 g is to get feedback on proposed content that is being developed for the 
 commercial launch of Axsome's acute migraine treatment asset.\n\nLearn Mo
 re About This Event: https://www.aan.com/msa/Public/Events/Details/18740
DTEND;TZID=Pacific Standard Time:20250405T150000
DTSTAMP:20260424T122213Z
DTSTART;TZID=Pacific Standard Time:20250405T080000
LOCATION:https://www.aan.com/msa/Public/Events/GetEventURL/18740
SEQUENCE:0
SUMMARY:AAN: Axsome Advisory Board Meeting
UID:e33a3128-693e-4fa4-8d61-1b798a10b617
END:VEVENT
END:VCALENDAR
