BEGIN:VCALENDAR
PRODID:-//github.com/rianjs/ical.net//NONSGML ical.net 4.0//EN
VERSION:2.0
BEGIN:VTIMEZONE
TZID:Pacific Standard Time
X-LIC-LOCATION:America/Los_Angeles
BEGIN:STANDARD
DTSTART:20241103T020000
RRULE:FREQ=YEARLY;BYDAY=1SU;BYMONTH=11
TZNAME:PST
TZOFFSETFROM:-0700
TZOFFSETTO:-0800
END:STANDARD
BEGIN:DAYLIGHT
DTSTART:20250309T020000
RRULE:FREQ=YEARLY;BYDAY=2SU;BYMONTH=3
TZNAME:PDT
TZOFFSETFROM:-0800
TZOFFSETTO:-0700
END:DAYLIGHT
END:VTIMEZONE
BEGIN:VEVENT
DESCRIPTION:2025 Annual Meeting by the American Academy of Neurology\n\nTi
 tle: AbbVie/MedForce war room\n\nDescription: AbbVie/MedForce war room\n\
 nLearn More About This Event: https://www.aan.com/msa/Public/Events/Detai
 ls/18759
DTEND;TZID=Pacific Standard Time;VALUE=DATE:20250409
DTSTAMP:20260424T122212Z
DTSTART;TZID=Pacific Standard Time;VALUE=DATE:20250405
LOCATION:https://www.aan.com/msa/Public/Events/GetEventURL/18759
SEQUENCE:0
SUMMARY:AAN: AbbVie/MedForce war room
UID:233b9ec5-a9ec-4f2c-bb90-463ebe03d8a7
END:VEVENT
END:VCALENDAR
