BEGIN:VCALENDAR
PRODID:-//github.com/rianjs/ical.net//NONSGML ical.net 4.0//EN
VERSION:2.0
BEGIN:VTIMEZONE
TZID:Pacific Standard Time
X-LIC-LOCATION:America/Los_Angeles
BEGIN:STANDARD
DTSTART:20241103T020000
RRULE:FREQ=YEARLY;BYDAY=1SU;BYMONTH=11
TZNAME:PST
TZOFFSETFROM:-0700
TZOFFSETTO:-0800
END:STANDARD
BEGIN:DAYLIGHT
DTSTART:20250309T020000
RRULE:FREQ=YEARLY;BYDAY=2SU;BYMONTH=3
TZNAME:PDT
TZOFFSETFROM:-0800
TZOFFSETTO:-0700
END:DAYLIGHT
END:VTIMEZONE
BEGIN:VEVENT
DESCRIPTION:2025 Annual Meeting by the American Academy of Neurology\n\nTi
 tle: Treatment Preference Advisory Roundtable Consortium (ARC) Slide Revi
 ew\n\nDescription: The meeting focuses on understanding how attack adjudi
 cation criteria influence treatment efficacy perceptions and comparing tr
 eatment management goals and switching thresholds among advisors with var
 ying preferences. Key discussions  will identify factors driving first-li
 ne maintenance treatment choices and opportunities to position UPLIZNA as
  a preferred therapy for NMOSD.\n\nLearn More About This Event: https://w
 ww.aan.com/msa/Public/Events/Details/18778
DTEND;TZID=Pacific Standard Time:20250403T180000
DTSTAMP:20260424T122019Z
DTSTART;TZID=Pacific Standard Time:20250403T130000
LOCATION:https://www.aan.com/msa/Public/Events/GetEventURL/18778
SEQUENCE:0
SUMMARY:AAN: Treatment Preference Advisory Roundtable Consortium (ARC) Sli
 de Review
UID:e2e114e4-d241-42d3-a15d-faf469f64387
END:VEVENT
END:VCALENDAR
