BEGIN:VCALENDAR
PRODID:-//github.com/rianjs/ical.net//NONSGML ical.net 4.0//EN
VERSION:2.0
BEGIN:VTIMEZONE
TZID:Pacific Standard Time
X-LIC-LOCATION:America/Los_Angeles
BEGIN:STANDARD
DTSTART:20241103T020000
RRULE:FREQ=YEARLY;BYDAY=1SU;BYMONTH=11
TZNAME:PST
TZOFFSETFROM:-0700
TZOFFSETTO:-0800
END:STANDARD
BEGIN:DAYLIGHT
DTSTART:20250309T020000
RRULE:FREQ=YEARLY;BYDAY=2SU;BYMONTH=3
TZNAME:PDT
TZOFFSETFROM:-0800
TZOFFSETTO:-0700
END:DAYLIGHT
END:VTIMEZONE
BEGIN:VEVENT
DESCRIPTION:2025 Annual Meeting by the American Academy of Neurology\n\nTi
 tle: Alnylam Staff Office\n\nDescription: Alnylam staff office for intern
 al gatherings away from show but as close as possible to congress for sho
 rt breaks\n\nLearn More About This Event: https://www.aan.com/msa/Public/
 Events/Details/18781
DTEND;TZID=Pacific Standard Time;VALUE=DATE:20250407
DTSTAMP:20260423T214309Z
DTSTART;TZID=Pacific Standard Time;VALUE=DATE:20250406
LOCATION:https://www.aan.com/msa/Public/Events/GetEventURL/18781
SEQUENCE:0
SUMMARY:AAN: Alnylam Staff Office
UID:c50eb177-d51a-4fff-a10e-cec3ea9c23c9
END:VEVENT
END:VCALENDAR
